BEGIN:VCALENDAR
VERSION:2.0
PRODID:Events Booking
BEGIN:VEVENT
UID:69e51c5456e4e
SUMMARY:Vietnam
DESCRIPTION:Travel to Vietnam with Globe Aware and explore one of Vietnam's
  most picturesque towns\, Hoi An\, an UNESCO World Heritage Site. Amid the
  distinctly preserved assortment of Chinese\, Japanese\, and French archit
 ecture remains the devastation of poverty with many peasants left dwelling
  in sub-par conditions.
LOCATION:tp. Hội An\, Quảng Nam\, Vietnam
DTSTART:20271128T060000Z
DTEND:20271204T060000Z
DTSTAMP:20220511T203246Z
ORGANIZER;CN=Globe Aware - Adventures in Service:MAILTO:office@globeaware.c
 om
GEO:15.880058;108.338047
X-APPLE-STRUCTURED-LOCATION;VALUE=URI;X-ADDRESS=tp. Hội An\, Quảng Nam\
 , Vietnam;X-APPLE-RADIUS=72;X-TITLE=Vietnam:15.880058;108.338047
END:VEVENT
END:VCALENDAR