BEGIN:VCALENDAR
VERSION:2.0
PRODID:Events Booking
BEGIN:VEVENT
UID:69e8b11bad82a
SUMMARY:Mystic Nepal
DESCRIPTION:Buddhism in Nepal is the second-largest religion and is home to
  major Buddhist monuments and monasteries in the capital city of Kathmandu
 . Every year\, the city usually receives travelers from all over the world
 \, visiting the Buddha Stupa Boudhanath and the Swyambhu Maha Chaitya Sway
 ambhunath stupas. These are famous architectural sites found only in Nepal
 .
DTSTART:20281126T060000Z
DTEND:20281202T060000Z
DTSTAMP:20220511T223022Z
ORGANIZER;CN=Globe Aware - Adventures in Service:MAILTO:office@globeaware.c
 om
END:VEVENT
END:VCALENDAR