BEGIN:VCALENDAR
VERSION:2.0
PRODID:Events Booking
BEGIN:VEVENT
UID:69e8eb3c7f372
SUMMARY:Mystic Nepal
DESCRIPTION:Buddhism in Nepal is the second-largest religion and is home to
  major Buddhist monuments and monasteries in the capital city of Kathmandu
 . Every year\, the city usually receives travelers from all over the world
 \, visiting the Buddha Stupa Boudhanath and the Swyambhu Maha Chaitya Sway
 ambhunath stupas. These are famous architectural sites found only in Nepal
 .
DTSTART:20290225T060000Z
DTEND:20290303T060000Z
DTSTAMP:20220511T223022Z
ORGANIZER;CN=Globe Aware - Adventures in Service:MAILTO:office@globeaware.c
 om
END:VEVENT
END:VCALENDAR