BEGIN:VCALENDAR
VERSION:2.0
PRODID:Events Booking
BEGIN:VEVENT
UID:69e5a08675d27
SUMMARY:Malawi
DESCRIPTION:Zomba District\, our home base\, represents a place of dreams\,
  hopes and opportunities. Zomba District Council\, together with various d
 evelopment partners\, aims to provide an enabling environment for men\, wo
 men\, girls and boys to realize their potential and meet their social and 
 economic endeavours.
LOCATION:Zomba\, Malawi
DTSTART:20280528T050000Z
DTEND:20280603T050000Z
DTSTAMP:20220511T204733Z
ORGANIZER;CN=Globe Aware - Adventures in Service:MAILTO:office@globeaware.c
 om
GEO:-15.376586;35.335652
X-APPLE-STRUCTURED-LOCATION;VALUE=URI;X-ADDRESS=Zomba\, Malawi;X-APPLE-RADI
 US=72;X-TITLE=Malawi:-15.376586;35.335652
END:VEVENT
END:VCALENDAR