BEGIN:VCALENDAR
VERSION:2.0
PRODID:Events Booking
BEGIN:VEVENT
UID:69e588f49d8a9
SUMMARY:Laos
DESCRIPTION:Laos is a beautiful\, tropical\, and mostly untouched country t
 hat is becoming an up-and-coming destination for travelers looking for an 
 authentic taste of South-east Asia\, due to this\, the rewards here are pl
 entiful. It may not be as developed as neighboring Thailand\, or Vietnam\,
  though this is exactly Laos' uniqueness and charm. Laos is a relatively s
 afe country to travel to\, with a slow and laid-back lifestyle\, or Ȋ Bor
  Pen Nyangȋ as the locals say\, \"No worries!
DTSTART:20280416T050000Z
DTEND:20280422T050000Z
DTSTAMP:20220511T222644Z
ORGANIZER;CN=Globe Aware - Adventures in Service:MAILTO:office@globeaware.c
 om
END:VEVENT
END:VCALENDAR