BEGIN:VCALENDAR
VERSION:2.0
PRODID:Events Booking
BEGIN:VEVENT
UID:69e89e0292132
SUMMARY: India
DESCRIPTION:Participate in Globe Aware's India program and combat poverty b
 y working with slum dwelling and other disadvantaged children in the commu
 nity of Jaipur. In this \"Pink City\,\" volunteers will work with rescued 
 child laborers\, assist at day care centers\, and provide support for loca
 l teachers\, in addition to completing beautification activities for publi
 c facilities.
DTSTART:20281001T050000Z
DTEND:20281007T050000Z
DTSTAMP:20220430T231957Z
ORGANIZER;CN=Globe Aware - Adventures in Service:MAILTO:office@globeaware.c
 om
END:VEVENT
END:VCALENDAR