BEGIN:VCALENDAR
VERSION:2.0
PRODID:Events Booking
BEGIN:VEVENT
UID:69e570e12bf65
SUMMARY:Cusco Peru
DESCRIPTION:Come to Cuzco with Globe Aware and take part in providing educa
 tional opportunities for impoverished children from rural households. Serv
 ice projects include improvements and maintenance to facilities through ac
 tivities like painting classrooms\, creating gardens\, or constructing des
 ks and beds.
LOCATION:Cusco\, Peru
DTSTART:20280326T050000Z
DTEND:20280401T050000Z
DTSTAMP:20220511T202825Z
ORGANIZER;CN=Globe Aware - Adventures in Service:MAILTO:office@globeaware.c
 om
GEO:-13.530199;-71.97556
X-APPLE-STRUCTURED-LOCATION;VALUE=URI;X-ADDRESS=Cusco\, Peru;X-APPLE-RADIUS
 =72;X-TITLE=Cusco\, Peru:-13.530199;-71.97556
END:VEVENT
END:VCALENDAR